BEGIN:VCALENDAR
VERSION:2.0
PRODID:-//Magic Millions - ECPv6.7.1//NONSGML v1.0//EN
CALSCALE:GREGORIAN
METHOD:PUBLISH
X-WR-CALNAME:Magic Millions
X-ORIGINAL-URL:https://www.magicmillions.com.au
X-WR-CALDESC:Events for Magic Millions
REFRESH-INTERVAL;VALUE=DURATION:PT1H
X-Robots-Tag:noindex
X-PUBLISHED-TTL:PT1H
BEGIN:VTIMEZONE
TZID:Australia/Brisbane
BEGIN:STANDARD
TZOFFSETFROM:+1000
TZOFFSETTO:+1000
TZNAME:AEST
DTSTART:20150101T000000
END:STANDARD
END:VTIMEZONE
BEGIN:VEVENT
DTSTART;TZID=Australia/Brisbane:20150305T083000
DTEND;TZID=Australia/Brisbane:20150308T170000
DTSTAMP:20260423T050321
CREATED:20150115T225853Z
LAST-MODIFIED:20150401T025245Z
UID:15205-1425544200-1425834000@www.magicmillions.com.au
SUMMARY:2015 Adelaide Magic Millions Yearling Inspections
DESCRIPTION:About\nFrom Thursday\, 5 March through to Sunday\, 8 March\, starting from 8am\, trainers and existing and prospective owners will flock to the Magic Millions Sales Complex at Morphettville to inspect the catalogued lots they are interested in purchasing during the 2015 Adelaide Yearling Sale. \nThe 443 thoroughbreds catalogued for the Sale will parade in front of prospective buyers before they decide if they will participate in the auction. \nThe Adelaide Yearling Inspections is a free event and the public are more than welcome to come along to Magic Millions Sales Complex at Morphettville and get a first hand look into the world of thoroughbred sales and racing. \nCheck out the catalogue here: http://ecat.magicmillions.com.au/viewAll/155
URL:https://www.magicmillions.com.au/calendar/2015-adelaide-magic-millions-yearlings-inspections/
LOCATION:Magic Millions Sales Complex Morphettville\, 1 Park Terrace\, Morphettville\, South Australia\, 5043\, Australia
CATEGORIES:Adelaide,Carnivals,Events,Magic Millions Events
END:VEVENT
BEGIN:VEVENT
DTSTART;TZID=Australia/Brisbane:20150308T100000
DTEND;TZID=Australia/Brisbane:20150308T113000
DTSTAMP:20260423T050321
CREATED:20150115T234018Z
LAST-MODIFIED:20150401T030011Z
UID:15222-1425808800-1425814200@www.magicmillions.com.au
SUMMARY:2015 Adelaide Magic Million Best Prepared Yearling
DESCRIPTION:Sponsored by Kentucky Equine Research
URL:https://www.magicmillions.com.au/calendar/2015-adelaide-magic-million-best-prepared-yearling/
LOCATION:Magic Millions Sales Complex Morphettville\, 1 Park Terrace\, Morphettville\, South Australia\, 5043\, Australia
CATEGORIES:Adelaide,Carnivals,Events
END:VEVENT
BEGIN:VEVENT
DTSTART;TZID=Australia/Brisbane:20150308T183000
DTEND;TZID=Australia/Brisbane:20150308T220000
DTSTAMP:20260423T050321
CREATED:20150115T232519Z
LAST-MODIFIED:20150330T052414Z
UID:15216-1425839400-1425852000@www.magicmillions.com.au
SUMMARY:2015 Adelaide Magic Millions Cocktail Party
DESCRIPTION:About \nThe 2015 Adelaide Magic Millions Cocktail Party marks the official start of the 2015 Adelaide Yearling Sale\, where VIP guests\, owners\, trainers\, breeders and jockeys gather to catch up and celebrate the Magic Millions Adelaide Carnival at the popular Moseley Bar & Kitchen. \nThe first auction commences the following night\, Monday\, 9 March 2015 at the Magic Millions Sales Complex in Morphettville following the 2015 Adelaide Cup Raceday. \nThis event is strictly invitation only and invitations are not transferable.
URL:https://www.magicmillions.com.au/calendar/2015-adelaide-magic-millions-cocktail-party/
LOCATION:Lindsay Head Outdoor Terrace\, Adelaide Oval\, King Williams Road\, North Adelaide\, SA\, 5006\, Australia
CATEGORIES:Adelaide,Carnivals,Events,Magic Millions Events
END:VEVENT
END:VCALENDAR