BEGIN:VCALENDAR
VERSION:2.0
PRODID:-//Magic Millions - ECPv6.7.1//NONSGML v1.0//EN
CALSCALE:GREGORIAN
METHOD:PUBLISH
X-WR-CALNAME:Magic Millions
X-ORIGINAL-URL:https://www.magicmillions.com.au
X-WR-CALDESC:Events for Magic Millions
REFRESH-INTERVAL;VALUE=DURATION:PT1H
X-Robots-Tag:noindex
X-PUBLISHED-TTL:PT1H
BEGIN:VTIMEZONE
TZID:Australia/Melbourne
BEGIN:STANDARD
TZOFFSETFROM:+1100
TZOFFSETTO:+1000
TZNAME:AEST
DTSTART:20150404T160000
END:STANDARD
BEGIN:DAYLIGHT
TZOFFSETFROM:+1000
TZOFFSETTO:+1100
TZNAME:AEDT
DTSTART:20151003T160000
END:DAYLIGHT
END:VTIMEZONE
BEGIN:VEVENT
DTSTART;TZID=Australia/Melbourne:20150309T180000
DTEND;TZID=Australia/Melbourne:20150311T180000
DTSTAMP:20260423T050433
CREATED:20140410T084816Z
LAST-MODIFIED:20190719T104454Z
UID:13627-1425924000-1426096800@www.magicmillions.com.au
SUMMARY:2015 Adelaide Yearling Sale
DESCRIPTION:Come to Adelaide to enjoy the gently rolling pristine surf and clean sandy beaches. Have lunch on the sea shore at any of the local fabulous restaurants. \nCatch the famous Adelaide tram from Glenelg to the City and enjoy the beautiful City that is Adelaide with all its Victorian and Colonial style buildings. \nThe World renowned Adelaide Oval is 10 minutes walk from Rundle Mall. See where the legends of Cricket and AFL strut their stuff. \nCatch the tram back to Glenelg\, order takeaway Fish‘n’chips and sit on the beach as the sun sets over the Gulf St Vincent. \nThe famous McLaren Vale and Barossa Valley wine regions are just 45 minutes and 95 minutes away. \nAnd by the way\, there is a Yearling Sale on at The Magic Millions Complex 5 minutes down the road showcasing the future thoroughbred Stars. \nThe sale has brought together a quality line up of potential racetrack stars from an auction renowned for the vast variety on offer and top quality success. Record entries were received for the sale with several new leading interstate vendors to sell in Adelaide for the first time. \nWith all these yearlings eligible for $11.3m prize money you just have to be in it to win it. \nAs Lloyd Kennewell\, trainer of $6\,500 Adelaide Yearling Sale graduate\, Deiheros\, first in the 2015 Magic Millions Gold Coast $1\,000\,000 3YO Guineas\, remarked “Adelaide’s been a great sale for us in recent years. We don’t want to promote it too much ‘cos a few more people will turn up!” \nThe 2015 sale will be held over three days – March 9 to 11 – commencing on Monday the 9th in the evening following the running of the Adelaide Cup and Magic Millions Adelaide 2YO Classic at the adjacent Morphettville Racecourse
URL:https://www.magicmillions.com.au/calendar/2015-adelaide-yearling-sale/
LOCATION:Magic Millions Sales Complex Morphettville\, 1 Park Terrace\, Morphettville\, South Australia\, 5043\, Australia
CATEGORIES:Adelaide,Carnivals,Magic Millions Events,Sales
END:VEVENT
END:VCALENDAR