BEGIN:VCALENDAR
VERSION:2.0
PRODID:-//Magic Millions - ECPv6.7.1//NONSGML v1.0//EN
CALSCALE:GREGORIAN
METHOD:PUBLISH
X-WR-CALNAME:Magic Millions
X-ORIGINAL-URL:https://www.magicmillions.com.au
X-WR-CALDESC:Events for Magic Millions
REFRESH-INTERVAL;VALUE=DURATION:PT1H
X-Robots-Tag:noindex
X-PUBLISHED-TTL:PT1H
BEGIN:VTIMEZONE
TZID:Australia/Melbourne
BEGIN:STANDARD
TZOFFSETFROM:+1100
TZOFFSETTO:+1000
TZNAME:AEST
DTSTART:20150404T160000
END:STANDARD
BEGIN:DAYLIGHT
TZOFFSETFROM:+1000
TZOFFSETTO:+1100
TZNAME:AEDT
DTSTART:20151003T160000
END:DAYLIGHT
END:VTIMEZONE
BEGIN:VEVENT
DTSTART;TZID=Australia/Melbourne:20150316T110000
DTEND;TZID=Australia/Melbourne:20150317T180000
DTSTAMP:20260423T050433
CREATED:20140410T084929Z
LAST-MODIFIED:20190719T104539Z
UID:13628-1426503600-1426615200@www.magicmillions.com.au
SUMMARY:2015 Gold Coast March Yearling Sale
DESCRIPTION:The sale to be held on Monday March 16 and Tuesday March 17\, has brought together an outstanding catalogue at a time when buying a QTIS eligible youngster has never been more lucrative. The catalogue is now online and also available for download on iPad via the Equineline Catalog App. \nWith a revitalised QTIS scheme commencing in August and the recent announcement of Magic Millions staging the country’s richest raceday\, each yearling offered at the Gold Coast March Yearling Sale will be eligible for over $14 million in QTIS only payments and over $24 million in exclusive Magic Millions and QTIS races.
URL:https://www.magicmillions.com.au/calendar/2015-gold-coast-march-yearling-sale/
LOCATION:Magic Millions Sales Complex Bundall\, 28 Ascot Court\, Bundall\, Gold Coast\, Queensland\, 4217\, Australia
CATEGORIES:Events,Sales
END:VEVENT
END:VCALENDAR