BEGIN:VCALENDAR
VERSION:2.0
PRODID:-//Magic Millions - ECPv6.7.1//NONSGML v1.0//EN
CALSCALE:GREGORIAN
METHOD:PUBLISH
X-WR-CALNAME:Magic Millions
X-ORIGINAL-URL:https://www.magicmillions.com.au
X-WR-CALDESC:Events for Magic Millions
REFRESH-INTERVAL;VALUE=DURATION:PT1H
X-Robots-Tag:noindex
X-PUBLISHED-TTL:PT1H
BEGIN:VTIMEZONE
TZID:Australia/Brisbane
BEGIN:STANDARD
TZOFFSETFROM:+1000
TZOFFSETTO:+1000
TZNAME:AEST
DTSTART:20260101T000000
END:STANDARD
END:VTIMEZONE
BEGIN:VEVENT
DTSTART;TZID=Australia/Brisbane:20260621T080000
DTEND;TZID=Australia/Brisbane:20260621T170000
DTSTAMP:20260424T102306
CREATED:20260422T065013Z
LAST-MODIFIED:20260422T065013Z
UID:49223-1782028800-1782061200@www.magicmillions.com.au
SUMMARY:2026 Perth Winter Thoroughbred Sale
DESCRIPTION:Entries now open
URL:https://www.magicmillions.com.au/calendar/2026-perth-winter-thoroughbred-sale/
LOCATION:Magic Milllions Sales Complex Swan Valley\, 2/56 Dale Road\, Middle Swan\, Western Australia\, 6056\, Australia
CATEGORIES:Perth,Sales
END:VEVENT
END:VCALENDAR