BEGIN:VCALENDAR
VERSION:2.0
PRODID:-//Magic Millions - ECPv6.7.1//NONSGML v1.0//EN
CALSCALE:GREGORIAN
METHOD:PUBLISH
X-WR-CALNAME:Magic Millions
X-ORIGINAL-URL:https://www.magicmillions.com.au
X-WR-CALDESC:Events for Magic Millions
REFRESH-INTERVAL;VALUE=DURATION:PT1H
X-Robots-Tag:noindex
X-PUBLISHED-TTL:PT1H
BEGIN:VTIMEZONE
TZID:Australia/Brisbane
BEGIN:STANDARD
TZOFFSETFROM:+1000
TZOFFSETTO:+1000
TZNAME:AEST
DTSTART:20260101T000000
END:STANDARD
END:VTIMEZONE
BEGIN:VEVENT
DTSTART;TZID=Australia/Brisbane:20260501T173000
DTEND;TZID=Australia/Brisbane:20260501T190000
DTSTAMP:20260422T113802
CREATED:20260421T030353Z
LAST-MODIFIED:20260421T030506Z
UID:49187-1777656600-1777662000@www.magicmillions.com.au
SUMMARY:2026 TRNT Select Tried Horse Sale
DESCRIPTION:What a time to be in the Red Centre and what an opportunity to invest into the Territory’s racing industry. \nWith the barrier draw on Thursday\, the lunch\, Calcutta and Tried Horse Sale on Friday and a great weekend of racing on Saturday (Pioneer Sprint) and Monday (Alice Springs Cup) – there’s so much fun to be had! \nThe 2026 Magic Millions Alice Springs Select Tried Horse Sale will present seven specifically selected lots who look ready to take the NT by storm. Check out the pedigrees\, race form\, vet notes and more – and remember the sale is open to all to attend. Get together\, catch up with a trainer\, form a syndicate and get winning! \nLast year’s graduates are flying – led by Bahama Bay – all but one have already won and the other is knocking on the door with a few placings! \nWith two races in Darwin and Alice Springs each year exclusively run for previous Magic Millions NT Tried Horse Sale buys there’s an amazing incentive to buy from the sale. \nAll TROBIS eligible lots will be paid up for the lucrative scheme and the returns get even stronger for owners. \nAny prospective buyers with questions in regard to payment for the sale should direct their questions to Thoroughbred Racing NT.
URL:https://www.magicmillions.com.au/calendar/2026-trnt-select-tried-horse-sale/
LOCATION:Alice Springs Convention Centre\, 93 Barrett Dr\, Alice Springs\, NT\, 0870\, Australia
CATEGORIES:Sales
END:VEVENT
END:VCALENDAR