BEGIN:VCALENDAR
VERSION:2.0
PRODID:-//Magic Millions - ECPv6.7.1//NONSGML v1.0//EN
CALSCALE:GREGORIAN
METHOD:PUBLISH
X-WR-CALNAME:Magic Millions
X-ORIGINAL-URL:https://www.magicmillions.com.au
X-WR-CALDESC:Events for Magic Millions
REFRESH-INTERVAL;VALUE=DURATION:PT1H
X-Robots-Tag:noindex
X-PUBLISHED-TTL:PT1H
BEGIN:VTIMEZONE
TZID:Australia/Melbourne
BEGIN:STANDARD
TZOFFSETFROM:+1100
TZOFFSETTO:+1000
TZNAME:AEST
DTSTART:20230401T160000
END:STANDARD
BEGIN:DAYLIGHT
TZOFFSETFROM:+1000
TZOFFSETTO:+1100
TZNAME:AEDT
DTSTART:20230930T160000
END:DAYLIGHT
END:VTIMEZONE
BEGIN:VEVENT
DTSTART;TZID=Australia/Melbourne:20230518T080000
DTEND;TZID=Australia/Melbourne:20230519T170000
DTSTAMP:20260422T095341
CREATED:20230215T025923Z
LAST-MODIFIED:20230519T011826Z
UID:41958-1684396800-1684515600@www.magicmillions.com.au
SUMMARY:2023 Gold Coast National Weanling Sale
DESCRIPTION:The catalogues for the Southern Hemisphere’s leading breeding stock event – the Magic Millions National Weanling and Broodmare Sales – are now online. \nThe finest Australian and international bloodlines come together for the breed shaping auction to commence with the first day of weanlings on May 18. \nThe National Weanling Sale\, comprising 450 outstanding youngsters\, is the undisputed number one source of pin-hook success stories and racetrack stars in Australasia. \nAn impressive line up of 22 young stallions will be represented by members of their first crop at the sale which boasts graduates including champion sires Pierro and Zoustar as well as Ellsberg\, Golden Slipper winner Stay Inside and this season’s crack juveniles Don Corleone\, Veight\, Princess Duhallow and Ripcord. \nTo view the online catalogue for the 2023 Magic Millions National Weanling Sale click here. \nThe National Broodmare Sale\, from May 23 and with 644 catalogued lots\, will present Australasia’s finest racefillies\, maiden mares\, young broodmares as well as proven producers.  Some 55% of all lots in the sale are either maiden mares or at first cover. \nDay One of the National Broodmare Sale will feature an incredible line up of racefillies and maiden mares – a record 32% of all lots have already achieved black type. \nThe second and third days of the National Broodmare Sale features a catalogue covered by not only Australia’s best\, but also those from the Northern Hemisphere including Frankel and Kingman. \nTo view the online catalogue for the 2023 Magic Millions National Broodmare Sale click here. \n“The National Sale has established itself as one of the world’s pre-eminent breeding auctions and the catalogue for 2023 delivers yet again – the offering will present incredible quality across all sales and markets\,” Magic Millions Managing Director Barry Bowditch said. \n“World class bloodstock at Australia’s holiday playground\, there’s no better place to be across May than the Gold Coast\,” Bowditch added. “The accompanying Queensland Winter Racing Carnival just adds to what is a spectacular time in the region.” \nRecently the Magic Millions National Sale has been boosted with the announcement of the Edinburgh Park Unreserved Dispersal. The dispersal of 63 lots will be sold across the National Sale and will feature 23 weanlings and 40 racefillies or broodmares. The draft will include a dozen stakes performed mares – everything from young stakes winners\, blue blooded mares and proven stakes producers. \n“I’ve decided to hit the reset button and will step back for a bit\,” Edinburgh’s Ian Smith reported. “Having an unreserved dispersal has been on my mind for a while and I decided now was the right time.” \nSmith has spent many years building up strong and successful bloodlines at his farm and has become one of the region’s most successful breeders. The Edinburgh Park Unreserved Dispersal can be viewed within the weanling & broodmare online catalogues\, or via a catalogue PDF download\, available here. \nThe catalogue for the 2023 National Yearling Sale (30-31 May) will feature 404 yearlings and the catalogue can be viewed here. \nSupplementary entries for the National Broodmare and Weanling Sales close on Wednesday 10 May – please complete this form and contact our Bloodstock team for the next steps to gain entry into the Supplementary catalogue.
URL:https://www.magicmillions.com.au/calendar/2023-gold-coast-national-weanling-sale/
LOCATION:Magic Millions Sales Complex Bundall\, 28 Ascot Court\, Bundall\, Gold Coast\, Queensland\, 4217\, Australia
CATEGORIES:Gold Coast May/June,Sales
END:VEVENT
END:VCALENDAR