BEGIN:VCALENDAR
VERSION:2.0
PRODID:-//Magic Millions - ECPv6.7.1//NONSGML v1.0//EN
CALSCALE:GREGORIAN
METHOD:PUBLISH
X-WR-CALNAME:Magic Millions
X-ORIGINAL-URL:https://www.magicmillions.com.au
X-WR-CALDESC:Events for Magic Millions
REFRESH-INTERVAL;VALUE=DURATION:PT1H
X-Robots-Tag:noindex
X-PUBLISHED-TTL:PT1H
BEGIN:VTIMEZONE
TZID:Australia/Melbourne
BEGIN:STANDARD
TZOFFSETFROM:+1100
TZOFFSETTO:+1000
TZNAME:AEST
DTSTART:20190406T160000
END:STANDARD
BEGIN:DAYLIGHT
TZOFFSETFROM:+1000
TZOFFSETTO:+1100
TZNAME:AEDT
DTSTART:20191005T160000
END:DAYLIGHT
END:VTIMEZONE
BEGIN:VEVENT
DTSTART;VALUE=DATE:20190525
DTEND;VALUE=DATE:20190609
DTSTAMP:20260425T023613
CREATED:20170403T231314Z
LAST-MODIFIED:20190314T064906Z
UID:24148-1558742400-1560038399@www.magicmillions.com.au
SUMMARY:Gold Coast Turf Club
DESCRIPTION:Racing every Saturday\, the Gold Coast Turf Club\, located just across the road from the Magic Millions Sales Complex\, is the perfect spot to enjoy a day of racing and fine hospitality. \nRaceday dining options include the popular Skyline Restaurant and The Gallery.  With panoramic views of the Gold Coast skyline\, there is no other racetrack like it in Australia. \nView the upcoming events and hospitality options here.
URL:https://www.magicmillions.com.au/calendar/gold-coast-turf-club/
LOCATION:Gold Coast Turf Club\, Racecourse Dr\, Bundall QLD\, Gold Coast\, Queensland\, 4217\, Australia
CATEGORIES:Carnivals,Gold Coast May/June
END:VEVENT
END:VCALENDAR