BEGIN:VCALENDAR
VERSION:2.0
PRODID:-//Magic Millions - ECPv6.7.1//NONSGML v1.0//EN
CALSCALE:GREGORIAN
METHOD:PUBLISH
X-WR-CALNAME:Magic Millions
X-ORIGINAL-URL:https://www.magicmillions.com.au
X-WR-CALDESC:Events for Magic Millions
REFRESH-INTERVAL;VALUE=DURATION:PT1H
X-Robots-Tag:noindex
X-PUBLISHED-TTL:PT1H
BEGIN:VTIMEZONE
TZID:Australia/Melbourne
BEGIN:STANDARD
TZOFFSETFROM:+1100
TZOFFSETTO:+1000
TZNAME:AEST
DTSTART:20130406T160000
END:STANDARD
BEGIN:DAYLIGHT
TZOFFSETFROM:+1000
TZOFFSETTO:+1100
TZNAME:AEDT
DTSTART:20131005T160000
END:DAYLIGHT
END:VTIMEZONE
BEGIN:VEVENT
DTSTART;TZID=Australia/Melbourne:20130505T110000
DTEND;TZID=Australia/Melbourne:20130505T180000
DTSTAMP:20260424T180535
CREATED:20130121T055656Z
LAST-MODIFIED:20190719T100800Z
UID:13540-1367751600-1367776800@www.magicmillions.com.au
SUMMARY:2013 Adelaide May Monthly Sale
DESCRIPTION:Morphettville Sales Complex\, Adelaide\, South Australia\nSession 1 – Sun 5 May 11am  – Lots 1 – 63
URL:https://www.magicmillions.com.au/calendar/2013-adelaide-may-monthly-sale/
LOCATION:Western Australia
CATEGORIES:Magic Millions Events,Sales
END:VEVENT
BEGIN:VEVENT
DTSTART;TZID=Australia/Melbourne:20130527T100000
DTEND;TZID=Australia/Melbourne:20130528T160000
DTSTAMP:20260424T180535
CREATED:20130121T054315Z
LAST-MODIFIED:20190719T101038Z
UID:13584-1369648800-1369756800@www.magicmillions.com.au
SUMMARY:2013 National Weanling Sale
DESCRIPTION:Magic Millions Sales Complex\, Gold Coast\, Queensland\nSelect 1 – Mon 27 May 10am  – Lots 1 – 205\nSelect 2 – Tue 28 May 10am – Lots 206 – 340\nGeneral 2 -Tue 28 May Cont – Lots 341 – 411
URL:https://www.magicmillions.com.au/calendar/2013-national-weanling-sale/
LOCATION:Western Australia
CATEGORIES:Events,Sales
END:VEVENT
BEGIN:VEVENT
DTSTART;TZID=Australia/Melbourne:20130529T100000
DTEND;TZID=Australia/Melbourne:20130531T161500
DTSTAMP:20260424T180535
CREATED:20130121T054746Z
LAST-MODIFIED:20190719T101117Z
UID:13585-1369821600-1370016900@www.magicmillions.com.au
SUMMARY:2013 National Broodmare Sale
DESCRIPTION:Magic Millions Sales Complex\, Gold Coast\, Queensland\nSelect 3 – Wed 29 May 10am  – Lots 501 – 770\nSelect 4 – Thu 30 May 10am – Lots 771 – 1034\nGeneral 5 -Fri 31 May 10am – Lots 1101 – 1311 \n 
URL:https://www.magicmillions.com.au/calendar/2013-national-broodmare-sale/
LOCATION:Western Australia
CATEGORIES:Events,Sales
END:VEVENT
END:VCALENDAR