BEGIN:VCALENDAR
VERSION:2.0
PRODID:-//Magic Millions - ECPv6.7.1//NONSGML v1.0//EN
CALSCALE:GREGORIAN
METHOD:PUBLISH
X-WR-CALNAME:Magic Millions
X-ORIGINAL-URL:https://www.magicmillions.com.au
X-WR-CALDESC:Events for Magic Millions
REFRESH-INTERVAL;VALUE=DURATION:PT1H
X-Robots-Tag:noindex
X-PUBLISHED-TTL:PT1H
BEGIN:VTIMEZONE
TZID:Australia/Melbourne
BEGIN:STANDARD
TZOFFSETFROM:+1100
TZOFFSETTO:+1000
TZNAME:AEST
DTSTART:20140405T160000
END:STANDARD
BEGIN:DAYLIGHT
TZOFFSETFROM:+1000
TZOFFSETTO:+1100
TZNAME:AEDT
DTSTART:20141004T160000
END:DAYLIGHT
END:VTIMEZONE
BEGIN:VEVENT
DTSTART;TZID=Australia/Melbourne:20140528T100000
DTEND;TZID=Australia/Melbourne:20140601T174500
DTSTAMP:20260423T171017
CREATED:20130618T025819Z
LAST-MODIFIED:20190719T102642Z
UID:13602-1401271200-1401644700@www.magicmillions.com.au
SUMMARY:2014 National Broodmare Sale
DESCRIPTION:Magic Millions Sales Complex\, Gold Coast\, Queensland \nSelect Mares \nWed 28 May 10am Lots 601 to 814\, 1468 to 1476Thu 29 May 10am Lots 815 to 1055\, 1491Fri 30 May 10am Lots 1056 to 1295\, 1477 to 1486\, 1490\, 1492 \nGeneral Mares \nSun 1 June 10am Lots 1296 to 1467\, 1487 to 1490
URL:https://www.magicmillions.com.au/calendar/2014-national-broodmare-sale/
LOCATION:Western Australia
CATEGORIES:Events,Sales
END:VEVENT
BEGIN:VEVENT
DTSTART;TZID=Australia/Melbourne:20140604T100000
DTEND;TZID=Australia/Melbourne:20140606T174500
DTSTAMP:20260423T171017
CREATED:20130618T025921Z
LAST-MODIFIED:20190719T102749Z
UID:13603-1401876000-1402076700@www.magicmillions.com.au
SUMMARY:2014 National Yearling Sale
DESCRIPTION:Magic Millions Sales Complex\, Gold Coast\, Queensland \nSelect YearlingsWed 4 June 10am Lots 1501 to 1735Thu 5 June 10am Lots 1736 to 1969 \nGeneral YearlingsFri 6 June 10am Lots 1970 to 2099
URL:https://www.magicmillions.com.au/calendar/2014-national-yearling-sale/
LOCATION:Western Australia
CATEGORIES:Events,Sales
END:VEVENT
BEGIN:VEVENT
DTSTART;TZID=Australia/Melbourne:20140606T100000
DTEND;TZID=Australia/Melbourne:20140606T174500
DTSTAMP:20260423T171017
CREATED:20130618T030028Z
LAST-MODIFIED:20190719T102947Z
UID:13604-1402048800-1402076700@www.magicmillions.com.au
SUMMARY:2014 National Racehorse Sale
DESCRIPTION:Magic Millions Sales Complex\, Gold Coast\, QueenslandFri 6 June follow Yearlings Lots 2201 to 2296
URL:https://www.magicmillions.com.au/calendar/2014-national-racehorse-sale/
LOCATION:Western Australia
CATEGORIES:Events,Sales
END:VEVENT
BEGIN:VEVENT
DTSTART;TZID=Australia/Melbourne:20140615T110000
DTEND;TZID=Australia/Melbourne:20140615T150000
DTSTAMP:20260423T171017
CREATED:20140502T064953Z
LAST-MODIFIED:20190722T220348Z
UID:13640-1402830000-1402844400@www.magicmillions.com.au
SUMMARY:2014 Adelaide June Mixed Sale
DESCRIPTION:Morphettville Sales Complex\, Adelaide\, South AustraliaSun 15 June 11am Lots 1-74
URL:https://www.magicmillions.com.au/calendar/2014-adelaide-june-mixed-sale/
LOCATION:Western Australia
CATEGORIES:Magic Millions Events,Sales
END:VEVENT
BEGIN:VEVENT
DTSTART;TZID=Australia/Melbourne:20140627T160000
DTEND;TZID=Australia/Melbourne:20140627T183000
DTSTAMP:20260423T171017
CREATED:20140410T023107Z
LAST-MODIFIED:20190719T103505Z
UID:13633-1403884800-1403893800@www.magicmillions.com.au
SUMMARY:2014 Perth Winter Yearling Sale
DESCRIPTION:Belmont Park Sales Complex\, Perth\, Western AustraliaFri 27 June 4pm Lots 1-65
URL:https://www.magicmillions.com.au/calendar/2014-perth-winter-yearling-sale/
LOCATION:Western Australia
CATEGORIES:Gold Coast,Sales
END:VEVENT
BEGIN:VEVENT
DTSTART;TZID=Australia/Melbourne:20140629T110000
DTEND;TZID=Australia/Melbourne:20140629T190000
DTSTAMP:20260423T171017
CREATED:20140410T022927Z
LAST-MODIFIED:20190719T103612Z
UID:13642-1404039600-1404068400@www.magicmillions.com.au
SUMMARY:2014 Perth Winter Thoroughbred Sale
DESCRIPTION:Belmont Park Sales Complex\, Perth\, Western AustraliaSun 29 June 11am Lots 101-265
URL:https://www.magicmillions.com.au/calendar/2014-perth-winter-thoroughbred-sale/
LOCATION:Western Australia
CATEGORIES:Gold Coast,Sales
END:VEVENT
END:VCALENDAR