BEGIN:VCALENDAR
VERSION:2.0
PRODID:-//Magic Millions - ECPv6.7.1//NONSGML v1.0//EN
CALSCALE:GREGORIAN
METHOD:PUBLISH
X-WR-CALNAME:Magic Millions
X-ORIGINAL-URL:https://www.magicmillions.com.au
X-WR-CALDESC:Events for Magic Millions
REFRESH-INTERVAL;VALUE=DURATION:PT1H
X-Robots-Tag:noindex
X-PUBLISHED-TTL:PT1H
BEGIN:VTIMEZONE
TZID:Australia/Melbourne
BEGIN:STANDARD
TZOFFSETFROM:+1100
TZOFFSETTO:+1000
TZNAME:AEST
DTSTART:20150404T160000
END:STANDARD
BEGIN:DAYLIGHT
TZOFFSETFROM:+1000
TZOFFSETTO:+1100
TZNAME:AEDT
DTSTART:20151003T160000
END:DAYLIGHT
END:VTIMEZONE
BEGIN:VEVENT
DTSTART;TZID=Australia/Melbourne:20150524T100000
DTEND;TZID=Australia/Melbourne:20150529T180000
DTSTAMP:20260423T002228
CREATED:20140410T085314Z
LAST-MODIFIED:20190719T105108Z
UID:13629-1432461600-1432922400@www.magicmillions.com.au
SUMMARY:2015 Gold Coast National Weanling Sale
DESCRIPTION:The National Weanling Sale catalogue comprises 430 lots to be sold over two days – May 24 and 25. \nFirmly established as the number one sale of its kind in the Southern Hemisphere\, the National Weanling Sale boasts recent graduates including Driefontein\, Peggy Jean\, Zoustar and Pierro. \nPlenty of interest will surround the first weanlings by sires including the aforementioned Triple Crown winner Pierro as well as the likes of All Too Hard\, Animal Kingdom\, Bullet Train\, Delago Deluxe and Your Song. \nThe 2015 catalogue includes (at least half) relations to Group One winners including Arapaho Miss\, Hasna\, Liberator\, Mongolian Khan\, Response\, Southern Lord and Young Centaur. Group winning mares with lots catalogued include Mythical Play\, Rocha\, Pane in the Glass\, Lectrice\, There’s Only One\, A Country Girl\, Slapstick\, Zatella\, Crown Princess and Flying Object. \nThe catalogue is available via the Equineline iPad App.
URL:https://www.magicmillions.com.au/calendar/2015-gold-coast-national-weanling-sale/
LOCATION:Magic Millions Sales Complex Bundall\, 28 Ascot Court\, Bundall\, Gold Coast\, Queensland\, 4217\, Australia
CATEGORIES:Events,Sales
END:VEVENT
BEGIN:VEVENT
DTSTART;TZID=Australia/Melbourne:20150527T100000
DTEND;TZID=Australia/Melbourne:20150531T184500
DTSTAMP:20260423T002228
CREATED:20140410T085500Z
LAST-MODIFIED:20190719T105140Z
UID:13635-1432720800-1433097900@www.magicmillions.com.au
SUMMARY:2015 Gold Coast National Broodmare Sale
DESCRIPTION:The National Broodmare Sale has attracted a star studded 848 lot catalogue with selling from May 27 to 31. \nAmong the stars catalogued are over 175 black type mares including 94 stakes winners – among them Group One winners Diademe\, Diana Cazadora\, Private Steer\, Response\, Rostova and Viadana. Others set to go under the hammer include group winners Bellini Rose\, Belmont Cat\, Hera\, Rocha\, Sistine Angel\, Varenna Miss\, Villa Verde\, Bashful Girl\, Brockman’s Lass\, Fine Bubbles\, Hi On Love\, Lectrice\, Leone Chiara\, Lovemelikearock\, Pane in the Glass\, Slapstick\, Thiamandi and dozens more. \nThe covering sires of mares reads like a who’s who of the breeding world with the Australasian stars including Redoute’s Choice\, Fastnet Rock\, Sebring\, Exceed and Excel\, Snitzel and I Am Invincible joined by the unbeaten world champion Frankel. \nThere’s a great selection of proven producers catalogued with the dams of Kermadec\, Star Witness\, Eurozone\, Fravashi\, Thump\, Thunder Fantasy and Willow Creek all entered. The list of well bred lots is endless but includes two half sisters to Queen Elizabeth Stakes winner Criterion and a pair of three quarter sisters to star filly First Seal. \nThe catalogue is available via the Equineline iPad App.
URL:https://www.magicmillions.com.au/calendar/2015-gold-coast-national-broodmare-sale/
LOCATION:Magic Millions Sales Complex Bundall\, 28 Ascot Court\, Bundall\, Gold Coast\, Queensland\, 4217\, Australia
CATEGORIES:Events,Magic Millions Events,Sales
END:VEVENT
END:VCALENDAR