BEGIN:VCALENDAR
VERSION:2.0
PRODID:-//Magic Millions - ECPv6.7.1//NONSGML v1.0//EN
CALSCALE:GREGORIAN
METHOD:PUBLISH
X-WR-CALNAME:Magic Millions
X-ORIGINAL-URL:https://www.magicmillions.com.au
X-WR-CALDESC:Events for Magic Millions
REFRESH-INTERVAL;VALUE=DURATION:PT1H
X-Robots-Tag:noindex
X-PUBLISHED-TTL:PT1H
BEGIN:VTIMEZONE
TZID:Australia/Melbourne
BEGIN:STANDARD
TZOFFSETFROM:+1100
TZOFFSETTO:+1000
TZNAME:AEST
DTSTART:20150404T160000
END:STANDARD
BEGIN:DAYLIGHT
TZOFFSETFROM:+1000
TZOFFSETTO:+1100
TZNAME:AEDT
DTSTART:20151003T160000
END:DAYLIGHT
END:VTIMEZONE
BEGIN:VEVENT
DTSTART;TZID=Australia/Melbourne:20150602T100000
DTEND;TZID=Australia/Melbourne:20150604T184500
DTSTAMP:20260422T225220
CREATED:20140410T085630Z
LAST-MODIFIED:20190719T105219Z
UID:13636-1433239200-1433443500@www.magicmillions.com.au
SUMMARY:2015 Gold Coast National Yearling Sale
DESCRIPTION:The Gold Coast National Yearling Sale of 632 lots will run over three days from 2 to 4 June and includes progeny by over 130 individual sires. \nOver the years the sale has established itself as one of the best producing and top value in the country with graduates including Golden Slipper winner Polar Success\, Singapore champion Rocket Man\, New Zealand based record breaker Princess Coup\, Oakleigh Plate winner Woorim\, star kiwi filly Costa Viva and reigning Queensland Oaks heroine Tinto. The National Yearling Sale has been the source of Group One winners around the globe for an average purchase price of around $35\,000. \nThe sale will provide buyers with the final opportunity to purchase a yearling eligible for nomination to the $11.29 million Magic Millions Race Series\, including the landmark $10m Gold Coast Raceday next January. \nA highlight of the auction will be the quality draft as part of the Heinrich Bloodstock Unreserved Dispersal. The 46 lot draft includes 13 already paid up for the national Magic Millions Race Series and all but two of the draft have been broken in and will have had a three week educational preparation at Kolora Lodge. \nAmong the pedigree highlight lots of the National Yearling Sale are (at least half) relations to Group One winners including La Drakkar\, Lone Rock\, Mentality\, Samaready\, Shocking\, Snitzel and Whobegotyou. \nThere’s also close relations to this season’s stakes stars Alpine Eagle\, Time for War\, The Grey Flash\, Averau\, Haptic\, Lady Jivago\, Leisure Free\, Pearl Star\, Phrases\, Red Excitement\, Sir Singo and Stratum Star. \nGroup One winning mares Bulla Borghese\, Lotteria\, Republic Lass\, Serious Speed\, Tartan Tights and Victory Vein have yearlings represented with no fewer than 105 stakes performed mares with progeny set to go under the hammer. \nThe catalogue is available via the Equineline iPad App.
URL:https://www.magicmillions.com.au/calendar/2015-gold-coast-national-yearling-sale/
LOCATION:Magic Millions Sales Complex Bundall\, 28 Ascot Court\, Bundall\, Gold Coast\, Queensland\, 4217\, Australia
CATEGORIES:Events,Gold Coast,Magic Millions Events,Sales
END:VEVENT
BEGIN:VEVENT
DTSTART;TZID=Australia/Melbourne:20150605T103000
DTEND;TZID=Australia/Melbourne:20150605T184500
DTSTAMP:20260422T225220
CREATED:20140410T085729Z
LAST-MODIFIED:20190719T105308Z
UID:13637-1433500200-1433529900@www.magicmillions.com.au
SUMMARY:2015 Gold Coast National Racehorse Sale
DESCRIPTION:Comprising 173 lots\, the sale will be held on Friday\, June 5 from 10am at the Gold Coast Sales Complex and will complete a massive two weeks of selling to conclude the Southern Hemisphere’s number one thoroughbred sale.\nThe sale will feature a classy 107 lot draft\, including 35 two-year-olds\, as part of the Heinrich Bloodstock Unreserved Dispersal Sale – a sale which also includes lots in the National Weanling\, Broodmare and Yearling Sales.Another feature of the Racehorse Sale is the 29 lot draft from Darley comprising an outstanding line up of lightly raced and highly promising young performers.In a great bonus for prospective buyers\, well over a quarter of lots to go under the hammer\, including a number of unraced prospects\, are paid up for the national Magic Millions Race Series and eligible to nominate for the $10 million Gold Coast Raceday.Among the proven racetrack performers are stakes winners Eastern Prince and Keredari and city winners Agadir\, Ballinaclash\, Beach Head\, Bernitchy\, Confident Star\, Dysfunction\, Goldie’s Return\, Kala’s Belle\, Love Shuttle\, Mana Manu\, Miss Zizou\, Moment of Impact\, Pure Reality\, Shiraz Attack\, Sunset Hills and Whatawaltz. \nOther prospects at the auction include exciting Brisbane juvenile Desert Man\, back to back winner Hostwin Pegasus and beautifully bred fillies Military Miss (Charge Forward-Regimental Gal half sister to Lilliburlero and Vimy)\, Stiletto (Lonhro-Saddler’s Silk full sister to Jerezana)\, Temple Divine (Fastnet Rock-Temple of Peace half sister to Whobegotyou)\, Devil’s Princess (Onemorenomore-Devil Moon three-year-old) and French Charm (Lope de Vega-La Montagna two-year-old).
URL:https://www.magicmillions.com.au/calendar/2015-gold-coast-national-racehorse-sale/
LOCATION:Magic Millions Sales Complex Bundall\, 28 Ascot Court\, Bundall\, Gold Coast\, Queensland\, 4217\, Australia
CATEGORIES:Events,Gold Coast,Sales
END:VEVENT
BEGIN:VEVENT
DTSTART;TZID=Australia/Melbourne:20150628T110000
DTEND;TZID=Australia/Melbourne:20150628T140000
DTSTAMP:20260422T225220
CREATED:20150331T053935Z
LAST-MODIFIED:20190719T105341Z
UID:16201-1435489200-1435500000@www.magicmillions.com.au
SUMMARY:2015 Perth Winter Yearling Sale
DESCRIPTION:The Perth Winter Yearling Sale will be held on Sunday\, June 28 from 11am with the yearling section to be followed by the thoroughbreds at the Belmont Park Sales Complex. \nThe 73 lot Yearling Sale features youngsters by more than 20 individual sires. Those sires include Alfred Nobel\, Blackfriars\, Myboycharlie\, Oratorio\, Sebring\, Skilled and Trade Fair. \nAmong the yearlings catalogued are (at least) half relations to stakes performers Big Caroline\, Captain Obvious\, Coppertito\, Good Serpent\, Miss Copycat\, Need a Lift\, Oroya Gold\, Prentice\, Secret Monarch\, Thundershock\, Very Auspicious \nStakes winning mares with yearlings set to go under the hammer include Bella Diva\, Homesville Lass and Group Three winner Twilight Spy who has a Sebring colt catalogued. \nYearlings offered will be eligible for nomination to the $11.29 million Magic Millions Race Series which features the Perth 2YO Classic\, Perth 3YO Trophy and the Goldfield 2YO & 3YO Classic at Kalgoorlie as well as Australia’s richest raceday at the Gold Coast from January 2016. \nPerth Winter Thoroughbred Sale
URL:https://www.magicmillions.com.au/calendar/2015-perth-winter-yearling-sale/
LOCATION:Belmont Park Sales Complex\, Belmont Racecourse\, Lot 1 Goodwood Parade\, Burswood\, Western Australia\, 6100\, Australia
CATEGORIES:Perth,Sales
END:VEVENT
BEGIN:VEVENT
DTSTART;TZID=Australia/Melbourne:20150628T140000
DTEND;TZID=Australia/Melbourne:20150628T170000
DTSTAMP:20260422T225220
CREATED:20150331T054059Z
LAST-MODIFIED:20190719T105416Z
UID:16202-1435500000-1435510800@www.magicmillions.com.au
SUMMARY:2015 Perth Winter Thoroughbred Sale
DESCRIPTION:The Winter Thoroughbred Sale will follow the Yearling Sale with a quality line up of weanlings\, racehorses and broodmares. \nThe highlight performer among racehorses is Group Two WA Derby winner Mystic Prince\, one of a seven lot draft from Peters Investments. \nYarradale Stud has a 31 lot draft with 30 weanlings including members of the first crop of Singapore champion Gingerbread Man. \nWeanlings in the sale include (at least) half relations to stakes winners Hesitates\, Super Lacuna\, Simply Adorable\, Gold Aura and La Plunge and youngsters from stakes mares including Lady Go Bello\, Shapira\, Hello Darl\, Maybe Arch\, Claise Brook\, Factional\, Smart Lady\, Canny Princess\, Mega Me and Point of No Return. \nThe broodmares catalogued include Group Two winner Only Glory\, fellow stakes performer Initial Outcome and Carabine\, the dam of Melbourne trained stakes winner Booklet. \nPerth Winter Yearling Sale
URL:https://www.magicmillions.com.au/calendar/2015-perth-winter-thoroughbred-sale/
LOCATION:Belmont Park Sales Complex\, Belmont Racecourse\, Lot 1 Goodwood Parade\, Burswood\, Western Australia\, 6100\, Australia
CATEGORIES:Perth,Sales
END:VEVENT
END:VCALENDAR