BEGIN:VCALENDAR
VERSION:2.0
PRODID:-//Magic Millions - ECPv6.7.1//NONSGML v1.0//EN
CALSCALE:GREGORIAN
METHOD:PUBLISH
X-WR-CALNAME:Magic Millions
X-ORIGINAL-URL:https://www.magicmillions.com.au
X-WR-CALDESC:Events for Magic Millions
REFRESH-INTERVAL;VALUE=DURATION:PT1H
X-Robots-Tag:noindex
X-PUBLISHED-TTL:PT1H
BEGIN:VTIMEZONE
TZID:Australia/Melbourne
BEGIN:STANDARD
TZOFFSETFROM:+1100
TZOFFSETTO:+1000
TZNAME:AEST
DTSTART:20160402T160000
END:STANDARD
BEGIN:DAYLIGHT
TZOFFSETFROM:+1000
TZOFFSETTO:+1100
TZNAME:AEDT
DTSTART:20161001T160000
END:DAYLIGHT
END:VTIMEZONE
BEGIN:VEVENT
DTSTART;TZID=Australia/Melbourne:20160106T110000
DTEND;TZID=Australia/Melbourne:20160112T180000
DTSTAMP:20260422T123513
CREATED:20150604T043856Z
LAST-MODIFIED:20250807T233003Z
UID:16971-1452078000-1452621600@www.magicmillions.com.au
SUMMARY:2016 Gold Coast Yearling Sale
DESCRIPTION:We invite you to engage in our flagship event that has become renowned for showcasing world class thoroughbreds and a world class entertainment experience\, both on and off the track. It’s about the sales\, it’s about the races and it’s about Summer on Queensland’s stunning Gold Coast. Graduates of our sale ring have been dominating winners’ stalls\, producing 16 Group 1 victories and 162 stakes wins in Australia during the 2014-15 season\, proving Magic Millions is the leading source of stakes winners in the country. Notably\, our sale has developed a reputation as the sale to source a future stallion\, with recent years producing sires Zoustar\, Sizzling\, Dissident\, Shooting To Win & Rubick. In 2016\, we are excited to be offering you another catalogue of superb yearlings\, whom we are sure will continue our long history of racetrack & breeding barn stardom. We have to congratulate our breeders on producing such attractive types with proven pedigrees\, giving us cause to shout about our must-attend sale in the new year. \nFrom 2016\, the Jeep Magic Millions Raceday will become Australia’s richest raceday with $10 million in prizemoney over nine races\, including a staggering seven races worth $1 million or more. It is the world’s richest sales based incentive raceday and we are proud to be known around the world for being an innovator with our unique sales based racing concept. The Magic Millions Gold Coast Raceday has everything from high glamour and fashion to high stakes. For the fourth year\, our celebrated $2 Million Jeep Magic Millions 2YO Classic will carry the ground-breaking $500\,000 Magic Millions Racing Women’s Bonus.  All lots within our catalogue are eligible to be nominated for the Magic Millions Race Series\, making the Gold Coast the best place to source your next superstar.
URL:https://www.magicmillions.com.au/calendar/2016-gold-coast-yearling-sale/
LOCATION:Magic Millions Sales Complex Bundall\, 28 Ascot Court\, Bundall\, Gold Coast\, Queensland\, 4217\, Australia
CATEGORIES:Gold Coast,Sales
END:VEVENT
BEGIN:VEVENT
DTSTART;TZID=Australia/Melbourne:20160112T110000
DTEND;TZID=Australia/Melbourne:20160112T180000
DTSTAMP:20260422T123513
CREATED:20150604T045440Z
LAST-MODIFIED:20250807T232942Z
UID:16975-1452596400-1452621600@www.magicmillions.com.au
SUMMARY:2016 Gold Coast Summer Racehorse Sale
DESCRIPTION:
URL:https://www.magicmillions.com.au/calendar/2016-gold-coast-summer-racehorse-sale/
LOCATION:Magic Millions Sales Complex Bundall\, 28 Ascot Court\, Bundall\, Gold Coast\, Queensland\, 4217\, Australia
CATEGORIES:Gold Coast,Sales
END:VEVENT
END:VCALENDAR