BEGIN:VCALENDAR
VERSION:2.0
PRODID:-//Magic Millions - ECPv6.7.1//NONSGML v1.0//EN
CALSCALE:GREGORIAN
METHOD:PUBLISH
X-WR-CALNAME:Magic Millions
X-ORIGINAL-URL:https://www.magicmillions.com.au
X-WR-CALDESC:Events for Magic Millions
REFRESH-INTERVAL;VALUE=DURATION:PT1H
X-Robots-Tag:noindex
X-PUBLISHED-TTL:PT1H
BEGIN:VTIMEZONE
TZID:Australia/Melbourne
BEGIN:STANDARD
TZOFFSETFROM:+1100
TZOFFSETTO:+1000
TZNAME:AEST
DTSTART:20160402T160000
END:STANDARD
BEGIN:DAYLIGHT
TZOFFSETFROM:+1000
TZOFFSETTO:+1100
TZNAME:AEDT
DTSTART:20161001T160000
END:DAYLIGHT
END:VTIMEZONE
BEGIN:VEVENT
DTSTART;TZID=Australia/Melbourne:20160215T150000
DTEND;TZID=Australia/Melbourne:20160216T184500
DTSTAMP:20260422T111634
CREATED:20150610T001947Z
LAST-MODIFIED:20190719T105846Z
UID:17031-1455548400-1455648300@www.magicmillions.com.au
SUMMARY:2016 Perth Yearling Sale
DESCRIPTION:The 2016 Perth Yearling sale will be held on Monday 15 February and Tuesday 16 February\, following the running of the $250\,000 Magic Millions WA 2YO Classic (RL) and $150\,000 Magic Millions WA 3YO Trophy (RL) at Pinjarra Park on Sunday 7 February. \nComprising 349 quality lots\, this year’s catalogue also claims a diverse offering for buyers with 84 different sires represented including new season sires Frost Giant & Gingerbread Man. Group One winning graduates of this sale include Magnifisio\, Luckygray\, Moment of Change and Eagle Regiment\, while other recent graduates include carnival stars Man Booker\, Let it Slip and Spangled Impact and unbeaten speedster Hot Goods\, not to forget the state’s champion juvenile – Magic Millions WA 2YO Classic and Karrakatta Plate winner Lucky Street.
URL:https://www.magicmillions.com.au/calendar/2016-perth-yearling-sale/
LOCATION:Belmont Park Sales Complex\, Belmont Racecourse\, Lot 1 Goodwood Parade\, Burswood\, Western Australia\, 6100\, Australia
CATEGORIES:Perth,Sales
END:VEVENT
BEGIN:VEVENT
DTSTART;TZID=Australia/Melbourne:20160218T120000
DTEND;TZID=Australia/Melbourne:20160218T160000
DTSTAMP:20260422T111634
CREATED:20150610T003724Z
LAST-MODIFIED:20190719T105912Z
UID:17034-1455796800-1455811200@www.magicmillions.com.au
SUMMARY:2016 Tasmanian Yearling Sale
DESCRIPTION:The catalogue for the 2016 Magic Millions Tasmanian Yearling Sale comprises 126 lots to be offered at Launceston’s Inveresk Showgrounds on Thursday\, February 18. \nRecent graduates of the sale have been starring around the country and include the likes of stakes winners The Cleaner\, Palentino and Banca Mo as well as quality performers Like a Carousel\, Kenjorwood and Valiant Warrior. \nAmong the yearlings catalogued for 2016 are relations to stakes winners including Banca Mo\, Braequest\, Brakim Lass\, Cailin Miss\, Grand Tycoon\, Jadescent\, Lake Sententia\, Packing OK\, Palentino and Triple Asset. 21 lots in the catalogue are from black type performed mares including stakes winners Abbadena\, Coupe\, Gehenna\, Star Hit and Wavishin.
URL:https://www.magicmillions.com.au/calendar/2016-tasmanian-yearling-sale/
LOCATION:Inveresk Showgrounds\, 1A Forster St\, Invermay\, Tasmania\, 7248\, Australia
CATEGORIES:Sales
END:VEVENT
BEGIN:VEVENT
DTSTART;TZID=Australia/Melbourne:20160222T081500
DTEND;TZID=Australia/Melbourne:20160222T180000
DTSTAMP:20260422T111634
CREATED:20160121T050134Z
LAST-MODIFIED:20170119T231901Z
UID:19401-1456128900-1456164000@www.magicmillions.com.au
SUMMARY:2016 Adelaide Tour Down Yonder
DESCRIPTION:Magic Millions hosts The Tour Down Yonder to provide buyers with a preview of the lots on offer in the 2016 Adelaide Yearling sale. The bus leaves the Magic Millions Morphettville Sales Complex at 8.15am sharp on Monday 22 February and the day will include refreshments and lunch at The Company Kitchen\, Angaston. \nThe following farms will be included in the tour: Balcrest\, Willow Grove\, Turnagain\, Cornerstone\, Goldin Farm & Tosca. \nPresale stud visits with Adrian Hancock to any of the vendors listed in the Adelaide Yearling Sale catalogue can be arranged\, please contact the South Australian office to enquire – 08 8297 8055
URL:https://www.magicmillions.com.au/calendar/2016-adelaide-tour-down-yonder/
LOCATION:Magic Millions Sales Complex Morphettville\, 1 Park Terrace\, Morphettville\, South Australia\, 5043\, Australia
CATEGORIES:Adelaide,Carnivals
END:VEVENT
END:VCALENDAR