BEGIN:VCALENDAR
VERSION:2.0
PRODID:-//Magic Millions - ECPv6.7.1//NONSGML v1.0//EN
CALSCALE:GREGORIAN
METHOD:PUBLISH
X-WR-CALNAME:Magic Millions
X-ORIGINAL-URL:https://www.magicmillions.com.au
X-WR-CALDESC:Events for Magic Millions
REFRESH-INTERVAL;VALUE=DURATION:PT1H
X-Robots-Tag:noindex
X-PUBLISHED-TTL:PT1H
BEGIN:VTIMEZONE
TZID:Australia/Melbourne
BEGIN:STANDARD
TZOFFSETFROM:+1100
TZOFFSETTO:+1000
TZNAME:AEST
DTSTART:20160402T160000
END:STANDARD
BEGIN:DAYLIGHT
TZOFFSETFROM:+1000
TZOFFSETTO:+1100
TZNAME:AEDT
DTSTART:20161001T160000
END:DAYLIGHT
END:VTIMEZONE
BEGIN:VEVENT
DTSTART;TZID=Australia/Melbourne:20160314T180000
DTEND;TZID=Australia/Melbourne:20160316T184500
DTSTAMP:20260422T095314
CREATED:20150610T004121Z
LAST-MODIFIED:20190719T105958Z
UID:17037-1457978400-1458153900@www.magicmillions.com.au
SUMMARY:2016 Adelaide Yearling Sale
DESCRIPTION:Over the years the Adelaide Yearling Sale has established itself as one of the best performing and top value auctions in the world with recent graduates including Happy Trails and Hucklebuck and untapped three-year-old Mahuta. \nAs usual the Morphettville auction has attracted a quality line up of individuals and with 115 individual sires represented there is again a great variety of stock on offer. Among the catalogued lots for March include (at least half) relations to group winning stars Happy Trails\, Monaco Consul\, Sirmione\, Richie’s Vibe\, Second Effort\, Blahnik\, Fitocracy\, Imana\, Liberty’s Gem\, Mr Chard and October Date.
URL:https://www.magicmillions.com.au/calendar/2016-adelaide-yearling-sale/
LOCATION:Magic Millions Sales Complex Morphettville\, 1 Park Terrace\, Morphettville\, South Australia\, 5043\, Australia
CATEGORIES:Adelaide,Carnivals,Sales
END:VEVENT
BEGIN:VEVENT
DTSTART;TZID=Australia/Melbourne:20160321T110000
DTEND;TZID=Australia/Melbourne:20160322T184500
DTSTAMP:20260422T095314
CREATED:20150610T004543Z
LAST-MODIFIED:20190719T110124Z
UID:17039-1458558000-1458672300@www.magicmillions.com.au
SUMMARY:2016 Gold Coast March Yearling Sale
DESCRIPTION:With graduates including Group One winners and Magic Millions Raceday stars Buffering and Tinto the Magic Millions Gold Coast March Yearling Sale has established itself one of the best performing sales in the country. This trend looks set to continue into the future with a catalogue full of quality youngsters unveiled for the 2016 edition. \nAll of Queensland’s leading sires are represented in the catalogue as well as many from around the country. Plenty of interest will surround the progeny by the nine first season sires – Americain\, Animal Kingdom\, Bullet Train\, Delago Deluxe\, Golden Archer\, Harbour Watch\, Instinction\, Rocker and Your Song. Australia’s two leading first season sires Love Conquers All and Sidereus are both Queensland based and are well represented in the 2016 catalogue with 22 and 24 lots respectively.
URL:https://www.magicmillions.com.au/calendar/2016-gold-coast-march-yearling-sale/
LOCATION:Magic Millions Sales Complex Bundall\, 28 Ascot Court\, Bundall\, Gold Coast\, Queensland\, 4217\, Australia
CATEGORIES:Carnivals,Gold Coast,Sales
END:VEVENT
END:VCALENDAR