BEGIN:VCALENDAR
VERSION:2.0
PRODID:-//Magic Millions - ECPv6.7.1//NONSGML v1.0//EN
CALSCALE:GREGORIAN
METHOD:PUBLISH
X-WR-CALNAME:Magic Millions
X-ORIGINAL-URL:https://www.magicmillions.com.au
X-WR-CALDESC:Events for Magic Millions
REFRESH-INTERVAL;VALUE=DURATION:PT1H
X-Robots-Tag:noindex
X-PUBLISHED-TTL:PT1H
BEGIN:VTIMEZONE
TZID:Australia/Melbourne
BEGIN:STANDARD
TZOFFSETFROM:+1100
TZOFFSETTO:+1000
TZNAME:AEST
DTSTART:20160402T160000
END:STANDARD
BEGIN:DAYLIGHT
TZOFFSETFROM:+1000
TZOFFSETTO:+1100
TZNAME:AEDT
DTSTART:20161001T160000
END:DAYLIGHT
END:VTIMEZONE
BEGIN:VEVENT
DTSTART;TZID=Australia/Melbourne:20160529T100000
DTEND;TZID=Australia/Melbourne:20160610T170000
DTSTAMP:20260422T053912
CREATED:20160211T052859Z
LAST-MODIFIED:20190719T110256Z
UID:19667-1464516000-1465578000@www.magicmillions.com.au
SUMMARY:2016 Gold Coast National Sale Series
DESCRIPTION:The Southern Hemisphere’s number one breeding stock sale will be held on the Gold Coast from late May. The National Weanling Sale will be followed by the National Broodmare\, Yearling and Racehorse Sales in what promises to be a highlight on the international thoroughbred calendar. \nOver recent seasons the National Weanling Sale has produced many stars – whether in the sale ring at yearling or two-year-old sales or on the track at the elite level. These graduates have included Group One winners  Pierro\, Zoustar\, Driefontein\, Harry’s Son\, Peggy Jean\, Willow Magic and Sacred Star as well as Gregers\, Whispering Brook\, Mahuta\, Alpha Miss\, Eclair Choice and Redzel. \nThe 2016 National Weanling Sale has attracted a catalogue of 400 lots including the Bellview Park Stud Unreserved Dispersal and the Bell River Thoroughbreds Dispersal. The sale features progeny by sires including proven stars Snitzel\, Fastnet Rock\, I Am Invincible\, Sebring\, Written Tycoon and Redoute’s Choice\, exciting young prospects All Too Hard\, Pierro\, Uncle Mo and Your Song and first season sires including Dundeel\, Epaulette\, Eurozone\, Fight Sun\, Shamus Award\, Sizzling\, Spirit of Boom\, The Factor and Unencumbered. \nThe National Broodmare Sale has produced subsequent group winning stars including Cinque Cento\, Russeting\, Sister Madly and Miracles of Life and has sold the dams of countless future Group One winners including superstars Atlantic Jewel and Winx. \nThis year’s catalogue includes an outstanding line up of entries – hundreds of maiden race fillies and mares including the likes of Bounding\, Fontiton and Perignon\, Dalziel Racing’s Bring Me the Maid\, and Triple Crown’s Group One winning juvenile Peggy Jean served in her first season by I Am Invincible. \nHaving produced graduates to win races including the Golden Slipper\, Victoria Derby\, Rosehill Guineas\, KrisFlyer International Sprint\, Dubai Golden Shaheen\, New Zealand Oaks\, Oakleigh Plate\, Queensland Oaks and many other features\, the National Yearling Sale has quickly established itself one of the region’s top performing auctions. \nOver 450 yearlings will be catalogued in 2016 and Magic Millions is pleased to announce a select session for the first time. The National Racehorse Sale will be conducted following the yearling sale to bring to a close an action packed two weeks on the Gold Coast. \nCatalogues will be available early May.
URL:https://www.magicmillions.com.au/calendar/2016-gold-coast-national-sale-series/
LOCATION:Magic Millions Sales Complex Bundall\, 28 Ascot Court\, Bundall\, Gold Coast\, Queensland\, 4217\, Australia
CATEGORIES:Carnivals,Events,Sales
ATTACH;FMTTYPE=image/jpeg:https://www.magicmillions.com.au/wp-content/uploads/2016/02/2016_NationalEntry_grid.jpg
END:VEVENT
BEGIN:VEVENT
DTSTART;TZID=Australia/Melbourne:20160601T100000
DTEND;TZID=Australia/Melbourne:20160605T180000
DTSTAMP:20260422T053912
CREATED:20151130T010218Z
LAST-MODIFIED:20190719T110357Z
UID:18601-1464775200-1465149600@www.magicmillions.com.au
SUMMARY:2016 Gold Coast National Broodmare Sale
DESCRIPTION:The National Broodmare Sale has produced subsequent group winning stars including Cinque Cento\, Russeting\, Sister Madly and Miracles of Life and has sold the dams of countless future Group One winners including superstars Atlantic Jewel and Winx. \nThis year’s catalogue includes an outstanding line up of entries – hundreds of maiden race fillies and mares including the likes of Bounding\, Fontiton and Perignon\, Dalziel Racing’s Bring Me the Maid\, and Triple Crown’s Group One winning juvenile Peggy Jean served in her first season by I Am Invincible. \nHaving produced graduates to win races including the Golden Slipper\, Victoria Derby\, Rosehill Guineas\, KrisFlyer International Sprint\, Dubai Golden Shaheen\, New Zealand Oaks\, Oakleigh Plate\, Queensland Oaks and many other features\, the National Yearling Sale has quickly established itself one of the region’s top performing auctions. \nOther Sales in National Series: \nWeanlings Yearlings Racehorses
URL:https://www.magicmillions.com.au/calendar/2016-gold-coast-national-broodmare-sale/
LOCATION:Magic Millions Sales Complex Bundall\, 28 Ascot Court\, Bundall\, Gold Coast\, Queensland\, 4217\, Australia
CATEGORIES:Carnivals,Sales
END:VEVENT
BEGIN:VEVENT
DTSTART;TZID=Australia/Melbourne:20160607T100000
DTEND;TZID=Australia/Melbourne:20160608T180000
DTSTAMP:20260422T053912
CREATED:20151130T010657Z
LAST-MODIFIED:20190719T110425Z
UID:18603-1465293600-1465408800@www.magicmillions.com.au
SUMMARY:2016 Gold Coast National Yearling Sale
DESCRIPTION:Having produced graduates to win races including the Golden Slipper\, Victoria Derby\, Rosehill Guineas\, KrisFlyer International Sprint\, Dubai Golden Shaheen\, New Zealand Oaks\, Oakleigh Plate\, Queensland Oaks and many other features\, the National Yearling Sale has quickly established itself one of the region’s top performing auctions. \nOver 450 yearlings will be catalogued in 2016 and Magic Millions is pleased to announce a select session for the first time. The National Racehorse Sale will be conducted following the yearling sale to bring to a close an action packed two weeks on the Gold Coast. \nOther Sales in National Series: \nWeanlings Broodmares Racehorses
URL:https://www.magicmillions.com.au/calendar/2016-gold-coast-national-yearling-sale/
LOCATION:Magic Millions Sales Complex Bundall\, 28 Ascot Court\, Bundall\, Gold Coast\, Queensland\, 4217\, Australia
CATEGORIES:Carnivals,Sales
END:VEVENT
BEGIN:VEVENT
DTSTART;TZID=Australia/Melbourne:20160609T100000
DTEND;TZID=Australia/Melbourne:20160609T180000
DTSTAMP:20260422T053912
CREATED:20151130T010949Z
LAST-MODIFIED:20190719T110450Z
UID:18605-1465466400-1465495200@www.magicmillions.com.au
SUMMARY:2016 Gold Coast National Racehorse Sale
DESCRIPTION:Other Sales in National Series: \nWeanlings Broodmares Yearlings
URL:https://www.magicmillions.com.au/calendar/2016-gold-coast-national-racehorse-sale/
LOCATION:Magic Millions Sales Complex Bundall\, 28 Ascot Court\, Bundall\, Gold Coast\, Queensland\, 4217\, Australia
CATEGORIES:Carnivals,Sales
END:VEVENT
BEGIN:VEVENT
DTSTART;TZID=Australia/Melbourne:20160626T110000
DTEND;TZID=Australia/Melbourne:20160626T170000
DTSTAMP:20260422T053912
CREATED:20160525T005520Z
LAST-MODIFIED:20190719T110604Z
UID:20750-1466938800-1466960400@www.magicmillions.com.au
SUMMARY:2016 Perth Winter Thoroughbred Sale
DESCRIPTION:Perth Winter Yearling Sale \nThe 2016 Magic Millions Perth Winter Thoroughbred Sale comprises 113 lots to date and plenty of interest will surround in excess of 50 weanlings to go under the hammer including members of the first crop of group winner Galah. \nOther sires represented by weanlings include Black Heart Bart’s sire Blackfriars as well as Dash for Cash\, Dick Turpin\, Frost Giant\, Gingerbread Man\, Patronize\, Planet Five\, So Secret\, Trade Fair\, Universal Ruler and Your Song. \nThe Racehorse section of the catalogue is highlighted by Western Australian Derby winner Respondent and other city winners including Essayez\, Express Dancer and Sheerkat. \nFeature broodmares in the line up include Group Three winner Native Song and the dam of star local group winner Pop Culture. \nA highlight of most Perth Thoroughbred Sales is the draft from Peters Investments – this time around there are 12 lots – the majority of them proven quality racehorses.
URL:https://www.magicmillions.com.au/calendar/2016-perth-winter-thoroughbred-sale/
LOCATION:Belmont Park Sales Complex\, Belmont Racecourse\, Lot 1 Goodwood Parade\, Burswood\, Western Australia\, 6100\, Australia
CATEGORIES:Events,Perth,Sales
END:VEVENT
BEGIN:VEVENT
DTSTART;TZID=Australia/Melbourne:20160626T110000
DTEND;TZID=Australia/Melbourne:20160626T180000
DTSTAMP:20260422T053912
CREATED:20160401T063448Z
LAST-MODIFIED:20190719T110533Z
UID:20246-1466938800-1466964000@www.magicmillions.com.au
SUMMARY:2016 Perth Winter Yearling Sale
DESCRIPTION:Perth Winter Thoroughbred Sale \nThe 2016 Magic Millions Perth Winter Yearling Sale has quickly established itself a premier source of quality performers. \nThe past two editions this sale have produced Group Two Western Australian Guineas winner Man Booker ($25\,000 purchase with earnings of $496\,300)\, Crystal Slipper winner and Karrakatta Plate runner-up Spangled Impact ($2\,000 buy with $260\,400 earned already) and quality performers Atacama Sky (Ascot 2YO winner and Perth Stakes runner-up) and Recoiled (won first two starts in Perth at three). \nThis year’s catalogue includes (at least half) relations to stakes performers including Black George\, Oroya Gold\, Prentice\, Rockshaft\, Vitalism and Young Lionel and youngsters from stakes mares Danni’s Crystal\, Only Glory\, Rosey View and Simply Adorable.
URL:https://www.magicmillions.com.au/calendar/2016-perth-winter-sale-series/
LOCATION:Belmont Park Sales Complex\, Belmont Racecourse\, Lot 1 Goodwood Parade\, Burswood\, Western Australia\, 6100\, Australia
CATEGORIES:Events,Perth,Sales
END:VEVENT
END:VCALENDAR