BEGIN:VCALENDAR
VERSION:2.0
PRODID:-//Magic Millions - ECPv6.7.1//NONSGML v1.0//EN
CALSCALE:GREGORIAN
METHOD:PUBLISH
X-WR-CALNAME:Magic Millions
X-ORIGINAL-URL:https://www.magicmillions.com.au
X-WR-CALDESC:Events for Magic Millions
REFRESH-INTERVAL;VALUE=DURATION:PT1H
X-Robots-Tag:noindex
X-PUBLISHED-TTL:PT1H
BEGIN:VTIMEZONE
TZID:Australia/Melbourne
BEGIN:STANDARD
TZOFFSETFROM:+1100
TZOFFSETTO:+1000
TZNAME:AEST
DTSTART:20160402T160000
END:STANDARD
BEGIN:DAYLIGHT
TZOFFSETFROM:+1000
TZOFFSETTO:+1100
TZNAME:AEDT
DTSTART:20161001T160000
END:DAYLIGHT
END:VTIMEZONE
BEGIN:VEVENT
DTSTART;TZID=Australia/Melbourne:20161011T110000
DTEND;TZID=Australia/Melbourne:20161012T170000
DTSTAMP:20260421T184623
CREATED:20160506T033813Z
LAST-MODIFIED:20190719T110645Z
UID:20604-1476183600-1476291600@www.magicmillions.com.au
SUMMARY:2016 Gold Coast 2YOs In Training Sale
DESCRIPTION:To be held over two days\, Tuesday October 11 and Wednesday October 12\, the Gold Coast based auction enables prospective buyers to see the two-year-olds breeze before they go under the hammer. \nAustralia’s leading sires are among 126 individual stallions represented by juveniles – Street Cry\, Not a Single Doubt\, Written Tycoon\, Fastnet Rock\, Encosta de Lago\, Redoute’s Choice\, Snitzel\, Sebring\, Choisir\, High Chaparral\, More Than Ready\, Magnus\, Stratum\, Mossman\, Commands and I Am Invincible. Also represented are 16 first season sires including multiple Group One winners All Too Hard\, Excelebration\, Pierro and Reliable Man. \nPast graduates of the sale have been excelling on tracks around the world with 10 stakes wins during the 2015/16 racing season. Those headline performances came from the likes of Cradle Me\, The Alfonso\, Sovereign Nation\, Fontelina\, Mystic Master\, Hooked and Mission Gdragon. \nAlready 16 graduates from last year’s sale have been winners – including Singapore’s Group Three Juvenile Championship winner Mystic Master and Brisbane’s group performed juvenile Dreams Aplenty. Another is Tyzone\, a son of Written Tycoon who recently swept the $100\,000 Townsville 2YO Classic boosting his earnings to over $140\,000. \nThe sale will be an extravaganza for domestic buyers with so many youngsters eligible for rich bonuses and Magic Millions Race Series eligibility. The highlights of which include: \n\n188 x BOBS Eligible\n82 x QTIS Fully Paid\n48 x Super VOBIS Nominated\n1 x VOBIS Gold Nominated\n6 x Nominated to the Blue Diamond Stakes\n12 x Nominated to the Golden Slipper Stakes\n62 x Nominated to the full Magic Millions Race Series and will be nominated with first entry in 2017 Jeep Magic Millions 2YO Classic before the sale\n1 x Nominated to the Magic Millions Race Series (WA races only)\n\nMake buying a breeze at the 2016 Magic Millions Gold Coast 2YOs in Training Sale and stake you claim for racing riches.
URL:https://www.magicmillions.com.au/calendar/2016-gold-coast-2yos-training-sale/
LOCATION:Magic Millions Sales Complex Bundall\, 28 Ascot Court\, Bundall\, Gold Coast\, Queensland\, 4217\, Australia
CATEGORIES:Gold Coast,Sales
END:VEVENT
BEGIN:VEVENT
DTSTART;TZID=Australia/Melbourne:20161012T110000
DTEND;TZID=Australia/Melbourne:20161012T170000
DTSTAMP:20260421T184623
CREATED:20160720T232648Z
LAST-MODIFIED:20190719T110708Z
UID:21278-1476270000-1476291600@www.magicmillions.com.au
SUMMARY:2016 Gold Coast Spring Racehorse Sale
DESCRIPTION:The Magic Millions Spring Racehorse Sale\, with a catalogue of 31 lots so far\, is scheduled at the end of the breeze up style auction next Wednesday (October 12). \nA highlight of the racehorse auction will be the 14 lot draft from Godolphin – featuring many recent winners and lightly raced gallopers. Breeders will also be impressed by a number of well bred fillies and mares catalogued. \nThe selling next week will commence on Tuesday with Day One of the 2016 Magic Millions Gold Coast 2YOs in Training Sale. Day Two will be held the following day with the sale starting at noon each day. \nOn Monday the final breeze up session in the lead up to the 2YOs sale will be held at the Gold Coast Turf Club from 9.30am.
URL:https://www.magicmillions.com.au/calendar/2016-gold-coast-spring-racehorse-sale/
LOCATION:NT
CATEGORIES:Gold Coast,Sales
END:VEVENT
END:VCALENDAR